BEGIN:VCALENDAR
VERSION:2.0
X-WR-TIMEZONE:America/Guadeloupe
CALSCALE:GREGORIAN
PRODID:-//IPEOS/Calendar//NONSGML v1.0//FR
X-WR-CALNAME;VALUE=TEXT: La Riviera des Îles de Guadeloupe - Agenda
X-WR-RELCALID:article/agenda
BEGIN:VEVENT
SUMMARY:Sunset Party @Nakama
UID:evenement226 @ https://www.rivieraguadeloupe.com
DTSTAMP:20231116T123624Z
DTSTART:20231119T210000Z
DTEND:20231120T020000Z
CREATED:20231116T123624Z
LAST-MODIFIED:20231116T163624Z
LOCATION:Saint François
DESCRIPTION:@DJBEATSOUL @MATLOW-MUSIC 🌴Afro-Tech house 🔥 Tapas- food and drunk
CATEGORIES:Agenda
URL:https://www.rivieraguadeloupe.com/article/agenda?id_evenement=226
SEQUENCE:1

STATUS:CONFIRMED
END:VEVENT
END:VCALENDAR

