BEGIN:VCALENDAR
VERSION:2.0
X-WR-TIMEZONE:America/Guadeloupe
CALSCALE:GREGORIAN
PRODID:-//IPEOS/Calendar//NONSGML v1.0//FR
X-WR-CALNAME;VALUE=TEXT: La Riviera des Îles de Guadeloupe - Agenda
X-WR-RELCALID:article/agenda
BEGIN:VEVENT
SUMMARY:Anniversaire de Rézilyans 971
UID:evenement225 @ https://www.rivieraguadeloupe.com
DTSTAMP:20231116T123445Z
DTSTART;VALUE=DATE:20231125
DTEND;VALUE=DATE:20231126
CREATED:20231116T123445Z
LAST-MODIFIED:20231116T163445Z
LOCATION:Sainte Anne
DESCRIPTION:Rendez-vous dès 10h avec au programme : chasse au trésor\, mini marché\, tombola\, visite\, animations culturelles\, expos\, buvette et snack.
CATEGORIES:Agenda
URL:https://www.rivieraguadeloupe.com/article/agenda?id_evenement=225
SEQUENCE:1

STATUS:CONFIRMED
END:VEVENT
END:VCALENDAR

