BEGIN:VCALENDAR
VERSION:2.0
X-WR-TIMEZONE:America/Guadeloupe
CALSCALE:GREGORIAN
PRODID:-//IPEOS/Calendar//NONSGML v1.0//FR
X-WR-CALNAME;VALUE=TEXT: La Riviera des Îles de Guadeloupe - Agenda
X-WR-RELCALID:article/agenda
BEGIN:VEVENT
SUMMARY:SwimRun
UID:evenement218 @ https://www.rivieraguadeloupe.com
DTSTAMP:20231114T122437Z
DTSTART:20231119T120000Z
DTEND:20231119T160000Z
CREATED:20231114T122437Z
LAST-MODIFIED:20231114T162525Z
LOCATION:Saint François
DESCRIPTION:La ligue de Triathlon vous invite à participer au SwimRun organisé par le club Tri Team Karaib en collaboration avec l'association des Zigwanns. 2 formats proposés : – Format S : 12.5kms par équipe de 2 – Format XS : 6kms en individuel Lien inscription : http://www.njuko.net/swimrun-xs-s-de-saint-francois-2023
CATEGORIES:Agenda
URL:https://www.rivieraguadeloupe.com/article/agenda?id_evenement=218
SEQUENCE:1

STATUS:CONFIRMED
END:VEVENT
END:VCALENDAR

